BEGIN:VCALENDAR
VERSION:2.0
PRODID:-//hacksw/handcal//NONSGML v1.0//EN
BEGIN:VEVENT
UID:11658a593f3bf85fa077c3038b1a2440@ssvplaffeien.ch
DTSTAMP:20260421T130034Z
DTSTART:20260313T183000Z
DTEND:20260313T183000Z
SUMMARY:Generalversammlung
LOCATION:Hirschen GastroPub Plaffeien
END:VEVENT
BEGIN:VEVENT
UID:b6cdda6662dc57404fb46c3b05480663@ssvplaffeien.ch
DTSTAMP:20260421T130034Z
DTSTART:20260314T140000Z
DTEND:20260314T150000Z
SUMMARY:Training
LOCATION:Stand Plaffeien
END:VEVENT
BEGIN:VEVENT
UID:cd9fed644faab1201963278afd9f1e43@ssvplaffeien.ch
DTSTAMP:20260421T130034Z
DTSTART:20260321T140000Z
DTEND:20260321T150000Z
SUMMARY:Training
LOCATION:Stand Plaffeien
END:VEVENT
BEGIN:VEVENT
UID:4b8e9c23d726faaab8e28fe5db4b1718@ssvplaffeien.ch
DTSTAMP:20260421T130034Z
DTSTART:20260328T140000Z
DTEND:20260328T150000Z
SUMMARY:Training
LOCATION:Stand Plaffeien
END:VEVENT
BEGIN:VEVENT
UID:4cc83074b0e5d5457097285860e50643@ssvplaffeien.ch
DTSTAMP:20260421T130034Z
DTSTART:20260402T161500Z
DTEND:20260402T181500Z
SUMMARY:Training
LOCATION:Stand Plaffeien
END:VEVENT
BEGIN:VEVENT
UID:7733992d3172918ee4c74e4a1928cfcc@ssvplaffeien.ch
DTSTAMP:20260421T130034Z
DTSTART:20260404T130000Z
DTEND:20260404T140000Z
SUMMARY:Training
LOCATION:Stand Plaffeien
END:VEVENT
BEGIN:VEVENT
UID:8154a1e41edcdf5f83349f3803d6e38d@ssvplaffeien.ch
DTSTAMP:20260421T130034Z
DTSTART:20260409T161500Z
DTEND:20260409T181500Z
SUMMARY:Training
LOCATION:Stand Plaffeien
END:VEVENT
BEGIN:VEVENT
UID:c0996916fd0c3266e52c726369feabe4@ssvplaffeien.ch
DTSTAMP:20260421T130034Z
DTSTART:20260410T161500Z
DTEND:20260410T181500Z
SUMMARY:Obligatorisches Bundesprogramm
LOCATION:Stand Plaffeien
END:VEVENT
BEGIN:VEVENT
UID:2aa84466dae260e9bdd19a4abb18fa24@ssvplaffeien.ch
DTSTAMP:20260421T130034Z
DTSTART:20260411T130000Z
DTEND:20260411T160000Z
SUMMARY:Training
LOCATION:Stand Plaffeien
END:VEVENT
BEGIN:VEVENT
UID:e384e02624dc4958258e95003dd04cb5@ssvplaffeien.ch
DTSTAMP:20260421T130034Z
DTSTART:20260416T161500Z
DTEND:20260416T181500Z
SUMMARY:Training
LOCATION:Stand Plaffeien
END:VEVENT
BEGIN:VEVENT
UID:6a583d90bfb01af185ccb0274302b800@ssvplaffeien.ch
DTSTAMP:20260421T130034Z
DTSTART:20260418T130000Z
DTEND:20260418T160000Z
SUMMARY:Training
LOCATION:Stand Plaffeien
END:VEVENT
BEGIN:VEVENT
UID:86df895d195aa58a3f0dac60a6d3cab8@ssvplaffeien.ch
DTSTAMP:20260421T130034Z
DTSTART:20260423T161500Z
DTEND:20260423T181500Z
SUMMARY:Training
LOCATION:Stand Plaffeien
END:VEVENT
BEGIN:VEVENT
UID:9e852aa9e7415d12a08775e289f28336@ssvplaffeien.ch
DTSTAMP:20260421T130034Z
DTSTART:20260425T130000Z
DTEND:20260425T160000Z
SUMMARY:Training
LOCATION:Stand Plaffeien
END:VEVENT
BEGIN:VEVENT
UID:c9f6c7a638f6991a25063b7be096275d@ssvplaffeien.ch
DTSTAMP:20260421T130034Z
DTSTART:20260430T161500Z
DTEND:20260430T181500Z
SUMMARY:Training
LOCATION:Stand Plaffeien
END:VEVENT
BEGIN:VEVENT
UID:787c85213e73f4238d90c4588f332228@ssvplaffeien.ch
DTSTAMP:20260421T130034Z
DTSTART;VALUE=DATE:20260502
DTEND;VALUE=DATE:20260503
SUMMARY:Bezirksfinal GM Elite Feld A
LOCATION:St. Antoni
END:VEVENT
BEGIN:VEVENT
UID:5ab4085c2fc5fa90cc1c2fd787820e58@ssvplaffeien.ch
DTSTAMP:20260421T130034Z
DTSTART;VALUE=DATE:20260502
DTEND;VALUE=DATE:20260503
SUMMARY:Bezirksfinal GM Elite Feld D
LOCATION:Wünnewil-Flamatt
END:VEVENT
BEGIN:VEVENT
UID:f2b8ef32250cb61a3aad0667782211d4@ssvplaffeien.ch
DTSTAMP:20260421T130034Z
DTSTART:20260507T161500Z
DTEND:20260507T181500Z
SUMMARY:Training
LOCATION:Stand Plaffeien
END:VEVENT
BEGIN:VEVENT
UID:48c318f7d3c3c0db75ca3a783146553e@ssvplaffeien.ch
DTSTAMP:20260421T130034Z
DTSTART:20260509T060000Z
DTEND:20260509T100000Z
SUMMARY:Bezirksfinal GM Elite Feld E
LOCATION:Stand Plaffeien
END:VEVENT
BEGIN:VEVENT
UID:70259039b8ca1f5b79818533c9f506fb@ssvplaffeien.ch
DTSTAMP:20260421T130034Z
DTSTART:20260509T113000Z
DTEND:20260509T133000Z
SUMMARY:Bezirksfinal GM Elite Feld E
LOCATION:Stand Plaffeien
END:VEVENT
BEGIN:VEVENT
UID:64ef1df713def65e43f47e5b6f6a3a1d@ssvplaffeien.ch
DTSTAMP:20260421T130034Z
DTSTART:20260513T161500Z
DTEND:20260513T181500Z
SUMMARY:Training
LOCATION:Stand Plaffeien
END:VEVENT
BEGIN:VEVENT
UID:641ff4077c3114f046128bd51903777b@ssvplaffeien.ch
DTSTAMP:20260421T130034Z
DTSTART;VALUE=DATE:20260516
DTEND;VALUE=DATE:20260517
SUMMARY:Kantonalfinal GM Elite
LOCATION:Romont
END:VEVENT
BEGIN:VEVENT
UID:09fa5feca62e64b5e5a36bb7ce58cd34@ssvplaffeien.ch
DTSTAMP:20260421T130034Z
DTSTART:20260521T161500Z
DTEND:20260521T181500Z
SUMMARY:Training
LOCATION:Stand Plaffeien
END:VEVENT
BEGIN:VEVENT
UID:c801b8988084ffb8c9a1057899d9aca4@ssvplaffeien.ch
DTSTAMP:20260421T130034Z
DTSTART;VALUE=DATE:20260523
DTEND;VALUE=DATE:20260524
SUMMARY:Vorschiessen Feldschiessen 
LOCATION:Plasselb
END:VEVENT
BEGIN:VEVENT
UID:b32bf2f36df52671ca55e713b87e002c@ssvplaffeien.ch
DTSTAMP:20260421T130034Z
DTSTART:20260523T130000Z
DTEND:20260523T160000Z
SUMMARY:Feldschiessen - Training
LOCATION:Stand Plaffeien
END:VEVENT
BEGIN:VEVENT
UID:0f11c9ddce738bfa28e4382e3c1d8442@ssvplaffeien.ch
DTSTAMP:20260421T130034Z
DTSTART:20260526T161500Z
DTEND:20260526T181500Z
SUMMARY:Feldschiessen - Training
LOCATION:Stand Plaffeien
END:VEVENT
BEGIN:VEVENT
UID:fa61129cf31af7df7f5ae50cba7fa51e@ssvplaffeien.ch
DTSTAMP:20260421T130034Z
DTSTART:20260527T161500Z
DTEND:20260527T181500Z
SUMMARY:Feldschiessen - Training
LOCATION:Stand Plaffeien
END:VEVENT
BEGIN:VEVENT
UID:86a1971a8ee1bc606837ebe0d3829449@ssvplaffeien.ch
DTSTAMP:20260421T130034Z
DTSTART:20260528T161500Z
DTEND:20260528T181500Z
SUMMARY:Feldschiessen - Training
LOCATION:Stand Plaffeien
END:VEVENT
BEGIN:VEVENT
UID:174578e28ce848bcd60b713d9ed3bdab@ssvplaffeien.ch
DTSTAMP:20260421T130034Z
DTSTART;VALUE=DATE:20260529
DTEND;VALUE=DATE:20260530
SUMMARY:Feldschiessen
LOCATION:Plasselb
END:VEVENT
BEGIN:VEVENT
UID:1bf75b908db1443ef7524782faeb7481@ssvplaffeien.ch
DTSTAMP:20260421T130034Z
DTSTART;VALUE=DATE:20260530
DTEND;VALUE=DATE:20260531
SUMMARY:Feldschiessen
LOCATION:Plasselb
END:VEVENT
BEGIN:VEVENT
UID:52d508e90d86ab4c2619126e096fa7aa@ssvplaffeien.ch
DTSTAMP:20260421T130034Z
DTSTART;VALUE=DATE:20260531
DTEND;VALUE=DATE:20260601
SUMMARY:Feldschiessen
LOCATION:Plasselb
END:VEVENT
BEGIN:VEVENT
UID:f3c58a9f3cf80f42c77c33f2783b6f32@ssvplaffeien.ch
DTSTAMP:20260421T130034Z
DTSTART:20260603T161500Z
DTEND:20260603T181500Z
SUMMARY:Training
LOCATION:Stand Plaffeien
END:VEVENT
BEGIN:VEVENT
UID:e5175876421817231fcb61d57e5a9348@ssvplaffeien.ch
DTSTAMP:20260421T130034Z
DTSTART;VALUE=DATE:20260605
DTEND;VALUE=DATE:20260606
SUMMARY:Eidgenössisches Schützenfest 2026
LOCATION:Chur Rossboden
END:VEVENT
BEGIN:VEVENT
UID:c5dca222b04345b83395d97785f68c0c@ssvplaffeien.ch
DTSTAMP:20260421T130034Z
DTSTART;VALUE=DATE:20260606
DTEND;VALUE=DATE:20260607
SUMMARY:Eidgenössisches Schützenfest 2026
LOCATION:Chur Rossboden
END:VEVENT
BEGIN:VEVENT
UID:f5bd43ba26e99b11997f980a3f5d6a4f@ssvplaffeien.ch
DTSTAMP:20260421T130034Z
DTSTART;VALUE=DATE:20260607
DTEND;VALUE=DATE:20260608
SUMMARY:Eidgenössisches Schützenfest 2026
LOCATION:Chur Rossboden
END:VEVENT
BEGIN:VEVENT
UID:c62d7d12ce78b1b290b15b22befcef8c@ssvplaffeien.ch
DTSTAMP:20260421T130034Z
DTSTART:20260611T161500Z
DTEND:20260611T181500Z
SUMMARY:Vorschiessen Freundschaftsschiessen
LOCATION:Stand Plaffeien
END:VEVENT
BEGIN:VEVENT
UID:19a9de4cbccde69ad07b6f461a20c266@ssvplaffeien.ch
DTSTAMP:20260421T130034Z
DTSTART:20260611T161500Z
DTEND:20260611T181500Z
SUMMARY:Training
LOCATION:Stand Plaffeien
END:VEVENT
BEGIN:VEVENT
UID:4f1629a4c39559ddf6f198be0439a112@ssvplaffeien.ch
DTSTAMP:20260421T130034Z
DTSTART:20260612T161500Z
DTEND:20260612T181500Z
SUMMARY:Obligatorisches Bundesprogramm
LOCATION:Stand Plaffeien
END:VEVENT
BEGIN:VEVENT
UID:4a1f9dff0998ee4eca0f1a0318b01fef@ssvplaffeien.ch
DTSTAMP:20260421T130034Z
DTSTART:20260613T070000Z
DTEND:20260613T090000Z
SUMMARY:Training
LOCATION:Stand Plaffeien
END:VEVENT
BEGIN:VEVENT
UID:f8e9e4093b5fd0ebc8ab603986e9025e@ssvplaffeien.ch
DTSTAMP:20260421T130034Z
DTSTART:20260618T161500Z
DTEND:20260618T181500Z
SUMMARY:Training
LOCATION:Stand Plaffeien
END:VEVENT
BEGIN:VEVENT
UID:e38a0ddc7eaac079f9f78a97e579f5ae@ssvplaffeien.ch
DTSTAMP:20260421T130034Z
DTSTART:20260619T161500Z
DTEND:20260619T181500Z
SUMMARY:Freundschaftsschiessen
LOCATION:Stand Plaffeien
END:VEVENT
BEGIN:VEVENT
UID:f7523bbbb6b95fa55614ebc52892591a@ssvplaffeien.ch
DTSTAMP:20260421T130034Z
DTSTART:20260620T070000Z
DTEND:20260620T090000Z
SUMMARY:Training
LOCATION:Stand Plaffeien
END:VEVENT
BEGIN:VEVENT
UID:c70fd03b329fa10ca16b44757188dcea@ssvplaffeien.ch
DTSTAMP:20260421T130034Z
DTSTART:20260620T113000Z
DTEND:20260620T150000Z
SUMMARY:Freundschaftsschiessen
LOCATION:Stand Plaffeien
END:VEVENT
BEGIN:VEVENT
UID:c83bc074264eb396d000e322e4d7b0a2@ssvplaffeien.ch
DTSTAMP:20260421T130034Z
DTSTART;VALUE=DATE:20260621
DTEND;VALUE=DATE:20260622
SUMMARY:Murtenschiessen
LOCATION:Murten
END:VEVENT
BEGIN:VEVENT
UID:51805c123318475ab021a0117d67fa11@ssvplaffeien.ch
DTSTAMP:20260421T130034Z
DTSTART:20260625T161500Z
DTEND:20260625T181500Z
SUMMARY:Training
LOCATION:Stand Plaffeien
END:VEVENT
BEGIN:VEVENT
UID:8ef38b13463f5195e8889f34d8d20e00@ssvplaffeien.ch
DTSTAMP:20260421T130034Z
DTSTART:20260627T070000Z
DTEND:20260627T090000Z
SUMMARY:Training
LOCATION:Stand Plaffeien
END:VEVENT
BEGIN:VEVENT
UID:74ceb941151ae8e911b79d6f58041c50@ssvplaffeien.ch
DTSTAMP:20260421T130034Z
DTSTART:20260702T161500Z
DTEND:20260702T181500Z
SUMMARY:Training
LOCATION:Stand Plaffeien
END:VEVENT
BEGIN:VEVENT
UID:64207abef630fb87f76b84a2416107f1@ssvplaffeien.ch
DTSTAMP:20260421T130034Z
DTSTART;VALUE=DATE:20260705
DTEND;VALUE=DATE:20260706
SUMMARY:Zoffi-Bergwanderung
LOCATION:-
END:VEVENT
BEGIN:VEVENT
UID:c44187ee9f7aebf18025ece69ce6f11c@ssvplaffeien.ch
DTSTAMP:20260421T130034Z
DTSTART:20260717T110000Z
DTEND:20260717T173000Z
SUMMARY:Jahresschiessen Veteranen
LOCATION:Marly
END:VEVENT
BEGIN:VEVENT
UID:12d775147b58ebe404e52caa58cb211f@ssvplaffeien.ch
DTSTAMP:20260421T130034Z
DTSTART:20260718T070000Z
DTEND:20260718T100000Z
SUMMARY:Jahresschiessen Veteranen
LOCATION:Marly
END:VEVENT
BEGIN:VEVENT
UID:b957f26207d56e923ed30b24cbd787f2@ssvplaffeien.ch
DTSTAMP:20260421T130034Z
DTSTART:20260718T120000Z
DTEND:20260718T150000Z
SUMMARY:Jahresschiessen Veteranen
LOCATION:Marly
END:VEVENT
BEGIN:VEVENT
UID:1e9a912fe422bb89b5fdd0a891011c9d@ssvplaffeien.ch
DTSTAMP:20260421T130034Z
DTSTART:20260822T140000Z
DTEND:20260822T160000Z
SUMMARY:Training
LOCATION:Stand Plaffeien
END:VEVENT
BEGIN:VEVENT
UID:87ca11b994dcf841b62fc2b9695e923c@ssvplaffeien.ch
DTSTAMP:20260421T130034Z
DTSTART:20260827T160000Z
DTEND:20260827T180000Z
SUMMARY:Training
LOCATION:Stand Plaffeien
END:VEVENT
BEGIN:VEVENT
UID:20081ccb523f81adf3bc4c33a8b2d2d1@ssvplaffeien.ch
DTSTAMP:20260421T130034Z
DTSTART:20260828T160000Z
DTEND:20260828T180000Z
SUMMARY:Obligatorisches Bundesprogramm
LOCATION:Stand Plaffeien
END:VEVENT
BEGIN:VEVENT
UID:08e7f96befdf5dd3da3024eb2912561a@ssvplaffeien.ch
DTSTAMP:20260421T130034Z
DTSTART:20260829T140000Z
DTEND:20260829T160000Z
SUMMARY:Training
LOCATION:Stand Plaffeien
END:VEVENT
BEGIN:VEVENT
UID:b3d11cc496a3438583d3178bd57b341e@ssvplaffeien.ch
DTSTAMP:20260421T130034Z
DTSTART:20260903T160000Z
DTEND:20260903T180000Z
SUMMARY:Training
LOCATION:Stand Plaffeien
END:VEVENT
BEGIN:VEVENT
UID:11ba35d57f44b68582f8c8d102a51f40@ssvplaffeien.ch
DTSTAMP:20260421T130034Z
DTSTART;VALUE=DATE:20260905
DTEND;VALUE=DATE:20260906
SUMMARY:Schweiz. Final GM Elite
LOCATION:Winterthur
END:VEVENT
BEGIN:VEVENT
UID:4ca41a12a1306f6740c447eded770b5c@ssvplaffeien.ch
DTSTAMP:20260421T130034Z
DTSTART;VALUE=DATE:20260906
DTEND;VALUE=DATE:20260907
SUMMARY:Feldstich-Final
LOCATION:Möhlin
END:VEVENT
BEGIN:VEVENT
UID:28f117b8260ff6b0cd26c05b78275fc6@ssvplaffeien.ch
DTSTAMP:20260421T130034Z
DTSTART:20260910T160000Z
DTEND:20260910T180000Z
SUMMARY:Training
LOCATION:Stand Plaffeien
END:VEVENT
BEGIN:VEVENT
UID:4ce4b4c238d53d27d6291898a47a2d59@ssvplaffeien.ch
DTSTAMP:20260421T130034Z
DTSTART;VALUE=DATE:20260912
DTEND;VALUE=DATE:20260913
SUMMARY:Kantonalmeisterschaften
LOCATION:Romont
END:VEVENT
BEGIN:VEVENT
UID:5f099114e769caf5729a07059bb2c65e@ssvplaffeien.ch
DTSTAMP:20260421T130034Z
DTSTART:20260912T120000Z
DTEND:20260912T140000Z
SUMMARY:Cup Final mit Jungschützen
LOCATION:Stand Plaffeien
END:VEVENT
BEGIN:VEVENT
UID:77da5fb4eea7eaaebc0b3dde35fbdb8e@ssvplaffeien.ch
DTSTAMP:20260421T130034Z
DTSTART:20260917T153000Z
DTEND:20260917T173000Z
SUMMARY:Training
LOCATION:Stand Plaffeien
END:VEVENT
BEGIN:VEVENT
UID:29ecd4ca2e7ff34082ed4722593ca5a1@ssvplaffeien.ch
DTSTAMP:20260421T130034Z
DTSTART:20260917T153000Z
DTEND:20260917T173000Z
SUMMARY:Vorschiessen Dorfschiessen
LOCATION:Stand Plaffeien
END:VEVENT
BEGIN:VEVENT
UID:be4e3648502249f6de5478d836c5aa9f@ssvplaffeien.ch
DTSTAMP:20260421T130034Z
DTSTART:20260924T153000Z
DTEND:20260924T173000Z
SUMMARY:Dorfschiessen
LOCATION:Stand Plaffeien
END:VEVENT
BEGIN:VEVENT
UID:c21b852ea13a4beaacaa82a577520861@ssvplaffeien.ch
DTSTAMP:20260421T130034Z
DTSTART:20260925T153000Z
DTEND:20260925T173000Z
SUMMARY:Dorfschiessen
LOCATION:Stand Plaffeien
END:VEVENT
BEGIN:VEVENT
UID:b22c94b36aa5524c58a419955fe7a73e@ssvplaffeien.ch
DTSTAMP:20260421T130034Z
DTSTART;VALUE=DATE:20260926
DTEND;VALUE=DATE:20260927
SUMMARY:Bezirkscup-Final
LOCATION:Rechthalten
END:VEVENT
BEGIN:VEVENT
UID:5cda4428ef2bf53e6b337503c258cf4c@ssvplaffeien.ch
DTSTAMP:20260421T130034Z
DTSTART:20261003T073000Z
DTEND:20261003T093000Z
SUMMARY:Ausschiessen
LOCATION:Stand Plaffeien
END:VEVENT
BEGIN:VEVENT
UID:958c4a109c5a69480813c005ae29133b@ssvplaffeien.ch
DTSTAMP:20260421T130034Z
DTSTART:20261003T110000Z
DTEND:20261003T150000Z
SUMMARY:Ausschiessen
LOCATION:Stand Plaffeien
END:VEVENT
BEGIN:VEVENT
UID:4f613d387fde4d52fbcb43c6f73b2b3b@ssvplaffeien.ch
DTSTAMP:20260421T130034Z
DTSTART:20261003T170000Z
DTEND:20261003T170000Z
SUMMARY:Ausschiessenessen
LOCATION:-
END:VEVENT
BEGIN:VEVENT
UID:89990af7cf986ce5949896e317a88fc2@ssvplaffeien.ch
DTSTAMP:20260421T130034Z
DTSTART;VALUE=DATE:20261024
DTEND;VALUE=DATE:20261025
SUMMARY:JU+VE Final
LOCATION:Thun
END:VEVENT
BEGIN:VEVENT
UID:b5a532887584c1088a489d5b58b65fbc@ssvplaffeien.ch
DTSTAMP:20260421T130034Z
DTSTART;VALUE=DATE:20261025
DTEND;VALUE=DATE:20261026
SUMMARY:Sektionsfinal
LOCATION:Thun
END:VEVENT
BEGIN:VEVENT
UID:71fadb52d606f968f8cfcd7b1f5ed2c8@ssvplaffeien.ch
DTSTAMP:20260421T130034Z
DTSTART:20270123T190000Z
DTEND:20270123T190000Z
SUMMARY:Lotto
LOCATION:MZH Brünisried
END:VEVENT
BEGIN:VEVENT
UID:8b8eb35b504d6e5683343b6cb56ea613@ssvplaffeien.ch
DTSTAMP:20260421T130034Z
DTSTART:20270312T183000Z
DTEND:20270312T183000Z
SUMMARY:Generalversammlung
LOCATION:Hirschen GastroPub Plaffeien
END:VEVENT
END:VCALENDAR